BEGIN:VCALENDAR
METHOD:PUBLISH
PRODID:-//Weblication CMS
VERSION:2.0
BEGIN:VTIMEZONE
TZID:Europe/Berlin
X-LIC-LOCATION:Europe/Berlin
BEGIN:DAYLIGHT
TZOFFSETFROM:+0100
TZOFFSETTO:+0200
TZNAME:CEST
DTSTART:19700329T020000
RRULE:FREQ=YEARLY;BYMONTH=3;BYDAY=-1SU
END:DAYLIGHT
BEGIN:STANDARD
TZOFFSETFROM:+0200
TZOFFSETTO:+0100
TZNAME:CET
DTSTART:19701025T030000
RRULE:FREQ=YEARLY;BYMONTH=10;BYDAY=-1SU
END:STANDARD
END:VTIMEZONE
BEGIN:VEVENT
SUMMARY:Tag der Arbeit, unterrichtsfrei
DTSTART;VALUE=DATE:20260501
DESCRIPTION:
LOCATION:
UID:https://www.rheinfelden.ch/schulen/agenda/termine/Tag-der-Arbeit-unterrichtsfrei.php
URL:https://www.rheinfelden.ch/schulen/agenda/termine/Tag-der-Arbeit-unterrichtsfrei.php?splitId=3&from=2026-05-01 00:00:00&to=2026-05-01 00:00:00
END:VEVENT
BEGIN:VEVENT
SUMMARY:Projektwoche Schulkreis Augarten
DTSTART;VALUE=DATE:20260504
DTEND;VALUE=DATE:20260509
DESCRIPTION:
LOCATION:
UID:https://www.rheinfelden.ch/schulen/agenda/termine/Projektwoche-SK-Augarten.php?uid=89d8e352d86e6efb8594ba13a0b7b964
URL:https://www.rheinfelden.ch/schulen/agenda/termine/Projektwoche-SK-Augarten.php?splitId=1&from=2026-05-04 00:00:00&to=2026-05-08 00:00:00
END:VEVENT
BEGIN:VEVENT
SUMMARY:Waldprojekt Schulkreis Robersten
DTSTART;VALUE=DATE:20260511
DTEND;VALUE=DATE:20260513
DESCRIPTION:
LOCATION:
UID:https://www.rheinfelden.ch/schulen/agenda/termine/Waldprojekt-SK-Robersten.php?uid=3f6f6e4e6325278064b258707f393301
URL:https://www.rheinfelden.ch/schulen/agenda/termine/Waldprojekt-SK-Robersten.php?splitId=2&from=2026-05-11 00:00:00&to=2026-05-12 00:00:00
END:VEVENT
BEGIN:VEVENT
SUMMARY:Weiterbildung Lehrpersonen, unterrichtsfrei
DTSTART;VALUE=DATE:20260513
DESCRIPTION:unterrichtsfrei gemäss §9 Verordnung über die Volksschule
LOCATION:
UID:https://www.rheinfelden.ch/schulen/agenda/termine/Weiterbildung-Lehrpersonen.php
URL:https://www.rheinfelden.ch/schulen/agenda/termine/Weiterbildung-Lehrpersonen.php?splitId=5&from=2026-05-13 00:00:00&to=
END:VEVENT
BEGIN:VEVENT
SUMMARY:Auffahrt - Auffahrtsbrücke, unterrichtsfrei
DTSTART;VALUE=DATE:20260514
DTEND;VALUE=DATE:20260516
DESCRIPTION:
LOCATION:
UID:https://www.rheinfelden.ch/schulen/agenda/termine/Auffahrt-Auffahrtsbruecke-unterrichtsfrei.php?uid=b9a477eb5bce3a8090cd6e73544f9669
URL:https://www.rheinfelden.ch/schulen/agenda/termine/Auffahrt-Auffahrtsbruecke-unterrichtsfrei.php?splitId=4&from=2026-05-14 00:00:00&to=2026-05-15 00:00:00
END:VEVENT
BEGIN:VEVENT
SUMMARY:SchuEl - Treffpunkt Schule Eltern
DTSTART;VALUE=DATE:20260519
DESCRIPTION:Schulkreis Altstadt
LOCATION:
UID:https://www.rheinfelden.ch/schulen/agenda/termine/SchuEl-Treffpunkt-Schule-Eltern.php
URL:https://www.rheinfelden.ch/schulen/agenda/termine/SchuEl-Treffpunkt-Schule-Eltern.php?splitId=0&from=2026-05-19 00:00:00&to=
END:VEVENT
END:VCALENDAR